BEGIN:VCALENDAR
VERSION:2.0
PRODID:-//Faith Presbyterian Christian Reformed Church - ECPv6.15.13//NONSGML v1.0//EN
CALSCALE:GREGORIAN
METHOD:PUBLISH
X-WR-CALNAME:Faith Presbyterian Christian Reformed Church
X-ORIGINAL-URL:https://faithchurchguam.org
X-WR-CALDESC:Events for Faith Presbyterian Christian Reformed Church
REFRESH-INTERVAL;VALUE=DURATION:PT1H
X-Robots-Tag:noindex
X-PUBLISHED-TTL:PT1H
BEGIN:VTIMEZONE
TZID:Australia/Melbourne
BEGIN:STANDARD
TZOFFSETFROM:+1100
TZOFFSETTO:+1000
TZNAME:AEST
DTSTART:20230401T160000
END:STANDARD
BEGIN:DAYLIGHT
TZOFFSETFROM:+1000
TZOFFSETTO:+1100
TZNAME:AEDT
DTSTART:20230930T160000
END:DAYLIGHT
BEGIN:STANDARD
TZOFFSETFROM:+1100
TZOFFSETTO:+1000
TZNAME:AEST
DTSTART:20240406T160000
END:STANDARD
BEGIN:DAYLIGHT
TZOFFSETFROM:+1000
TZOFFSETTO:+1100
TZNAME:AEDT
DTSTART:20241005T160000
END:DAYLIGHT
BEGIN:STANDARD
TZOFFSETFROM:+1100
TZOFFSETTO:+1000
TZNAME:AEST
DTSTART:20250405T160000
END:STANDARD
BEGIN:DAYLIGHT
TZOFFSETFROM:+1000
TZOFFSETTO:+1100
TZNAME:AEDT
DTSTART:20251004T160000
END:DAYLIGHT
END:VTIMEZONE
BEGIN:VEVENT
DTSTART;TZID=Australia/Melbourne:20240616T100000
DTEND;TZID=Australia/Melbourne:20240616T113000
DTSTAMP:20260424T055036
CREATED:20240527T144931Z
LAST-MODIFIED:20240527T144931Z
UID:3435-1718532000-1718537400@faithchurchguam.org
SUMMARY:Worship Service
DESCRIPTION:
URL:https://faithchurchguam.org/event/worship-service-100/
END:VEVENT
BEGIN:VEVENT
DTSTART;TZID=Australia/Melbourne:20240616T090000
DTEND;TZID=Australia/Melbourne:20240616T100000
DTSTAMP:20260424T055036
CREATED:20240527T144213Z
LAST-MODIFIED:20240527T144213Z
UID:3430-1718528400-1718532000@faithchurchguam.org
SUMMARY:Sunday School All Ages
DESCRIPTION:
URL:https://faithchurchguam.org/event/sunday-school-all-ages-101/
END:VEVENT
BEGIN:VEVENT
DTSTART;TZID=Australia/Melbourne:20240609T100000
DTEND;TZID=Australia/Melbourne:20240609T113000
DTSTAMP:20260424T055036
CREATED:20240527T144856Z
LAST-MODIFIED:20240527T144856Z
UID:3433-1717927200-1717932600@faithchurchguam.org
SUMMARY:Worship Service
DESCRIPTION:
URL:https://faithchurchguam.org/event/worship-service-99/
END:VEVENT
BEGIN:VEVENT
DTSTART;TZID=Australia/Melbourne:20240609T090000
DTEND;TZID=Australia/Melbourne:20240609T100000
DTSTAMP:20260424T055036
CREATED:20240527T144106Z
LAST-MODIFIED:20240527T144106Z
UID:3428-1717923600-1717927200@faithchurchguam.org
SUMMARY:Sunday School All Ages
DESCRIPTION:
URL:https://faithchurchguam.org/event/sunday-school-all-ages-100/
END:VEVENT
BEGIN:VEVENT
DTSTART;TZID=Australia/Melbourne:20240602T100000
DTEND;TZID=Australia/Melbourne:20240602T113000
DTSTAMP:20260424T055036
CREATED:20240520T151900Z
LAST-MODIFIED:20240520T151900Z
UID:3424-1717322400-1717327800@faithchurchguam.org
SUMMARY:Worship Service
DESCRIPTION:
URL:https://faithchurchguam.org/event/worship-service-98/
END:VEVENT
BEGIN:VEVENT
DTSTART;TZID=Australia/Melbourne:20240602T090000
DTEND;TZID=Australia/Melbourne:20240602T100000
DTSTAMP:20260424T055036
CREATED:20240520T151805Z
LAST-MODIFIED:20240520T151805Z
UID:3422-1717318800-1717322400@faithchurchguam.org
SUMMARY:Sunday School All Ages
DESCRIPTION:
URL:https://faithchurchguam.org/event/sunday-school-all-ages-99/
END:VEVENT
BEGIN:VEVENT
DTSTART;TZID=Australia/Melbourne:20240526T100000
DTEND;TZID=Australia/Melbourne:20240526T113000
DTSTAMP:20260424T055036
CREATED:20240501T035923Z
LAST-MODIFIED:20240501T035923Z
UID:3410-1716717600-1716723000@faithchurchguam.org
SUMMARY:Worship Service
DESCRIPTION:
URL:https://faithchurchguam.org/event/worship-service-97/
END:VEVENT
BEGIN:VEVENT
DTSTART;TZID=Australia/Melbourne:20240526T090000
DTEND;TZID=Australia/Melbourne:20240526T100000
DTSTAMP:20260424T055036
CREATED:20240501T035621Z
LAST-MODIFIED:20240501T035621Z
UID:3402-1716714000-1716717600@faithchurchguam.org
SUMMARY:Sunday School All Ages
DESCRIPTION:
URL:https://faithchurchguam.org/event/sunday-school-all-ages-98/
END:VEVENT
BEGIN:VEVENT
DTSTART;TZID=Australia/Melbourne:20240519T100000
DTEND;TZID=Australia/Melbourne:20240519T113000
DTSTAMP:20260424T055036
CREATED:20240501T035848Z
LAST-MODIFIED:20240501T035848Z
UID:3408-1716112800-1716118200@faithchurchguam.org
SUMMARY:Worship Service
DESCRIPTION:
URL:https://faithchurchguam.org/event/worship-service-96/
END:VEVENT
BEGIN:VEVENT
DTSTART;TZID=Australia/Melbourne:20240519T090000
DTEND;TZID=Australia/Melbourne:20240519T100000
DTSTAMP:20260424T055036
CREATED:20240501T035531Z
LAST-MODIFIED:20240501T035531Z
UID:3400-1716109200-1716112800@faithchurchguam.org
SUMMARY:Sunday School All Ages
DESCRIPTION:
URL:https://faithchurchguam.org/event/sunday-school-all-ages-97/
END:VEVENT
BEGIN:VEVENT
DTSTART;TZID=Australia/Melbourne:20240512T100000
DTEND;TZID=Australia/Melbourne:20240512T233000
DTSTAMP:20260424T055036
CREATED:20240501T035801Z
LAST-MODIFIED:20240501T035801Z
UID:3406-1715508000-1715556600@faithchurchguam.org
SUMMARY:Worship Service
DESCRIPTION:
URL:https://faithchurchguam.org/event/worship-service-95/
END:VEVENT
BEGIN:VEVENT
DTSTART;TZID=Australia/Melbourne:20240512T090000
DTEND;TZID=Australia/Melbourne:20240512T100000
DTSTAMP:20260424T055036
CREATED:20240501T035255Z
LAST-MODIFIED:20240501T035255Z
UID:3398-1715504400-1715508000@faithchurchguam.org
SUMMARY:Sunday School All Ages
DESCRIPTION:
URL:https://faithchurchguam.org/event/sunday-school-all-ages-96/
END:VEVENT
BEGIN:VEVENT
DTSTART;TZID=Australia/Melbourne:20240505T100000
DTEND;TZID=Australia/Melbourne:20240505T113000
DTSTAMP:20260424T055036
CREATED:20240501T035724Z
LAST-MODIFIED:20240501T035724Z
UID:3404-1714903200-1714908600@faithchurchguam.org
SUMMARY:Worship Service
DESCRIPTION:
URL:https://faithchurchguam.org/event/worship-service-94/
END:VEVENT
BEGIN:VEVENT
DTSTART;TZID=Australia/Melbourne:20240505T090000
DTEND;TZID=Australia/Melbourne:20240505T100000
DTSTAMP:20260424T055036
CREATED:20240501T035217Z
LAST-MODIFIED:20240501T035217Z
UID:3396-1714899600-1714903200@faithchurchguam.org
SUMMARY:Sunday School All Ages
DESCRIPTION:
URL:https://faithchurchguam.org/event/sunday-school-all-ages-95/
END:VEVENT
BEGIN:VEVENT
DTSTART;TZID=Australia/Melbourne:20240428T100000
DTEND;TZID=Australia/Melbourne:20240428T113000
DTSTAMP:20260424T055036
CREATED:20240401T223828Z
LAST-MODIFIED:20240401T223828Z
UID:3380-1714298400-1714303800@faithchurchguam.org
SUMMARY:Worship Service
DESCRIPTION:
URL:https://faithchurchguam.org/event/worship-service-93/
END:VEVENT
BEGIN:VEVENT
DTSTART;TZID=Australia/Melbourne:20240428T090000
DTEND;TZID=Australia/Melbourne:20240428T100000
DTSTAMP:20260424T055036
CREATED:20240401T223322Z
LAST-MODIFIED:20240401T223322Z
UID:3372-1714294800-1714298400@faithchurchguam.org
SUMMARY:Sunday School All Ages
DESCRIPTION:
URL:https://faithchurchguam.org/event/sunday-school-all-ages-94/
END:VEVENT
BEGIN:VEVENT
DTSTART;TZID=Australia/Melbourne:20240421T100000
DTEND;TZID=Australia/Melbourne:20240421T113000
DTSTAMP:20260424T055036
CREATED:20240401T223735Z
LAST-MODIFIED:20240401T223735Z
UID:3378-1713693600-1713699000@faithchurchguam.org
SUMMARY:Worship Service
DESCRIPTION:
URL:https://faithchurchguam.org/event/worship-service-92/
END:VEVENT
BEGIN:VEVENT
DTSTART;TZID=Australia/Melbourne:20240421T090000
DTEND;TZID=Australia/Melbourne:20240421T100000
DTSTAMP:20260424T055036
CREATED:20240401T223159Z
LAST-MODIFIED:20240401T223159Z
UID:3370-1713690000-1713693600@faithchurchguam.org
SUMMARY:Sunday School All Ages
DESCRIPTION:
URL:https://faithchurchguam.org/event/sunday-school-all-ages-93/
END:VEVENT
BEGIN:VEVENT
DTSTART;TZID=Australia/Melbourne:20240414T100000
DTEND;TZID=Australia/Melbourne:20240414T113000
DTSTAMP:20260424T055036
CREATED:20240401T223630Z
LAST-MODIFIED:20240401T223630Z
UID:3376-1713088800-1713094200@faithchurchguam.org
SUMMARY:Worship Service
DESCRIPTION:
URL:https://faithchurchguam.org/event/worship-service-91/
END:VEVENT
BEGIN:VEVENT
DTSTART;TZID=Australia/Melbourne:20240414T090000
DTEND;TZID=Australia/Melbourne:20240414T100000
DTSTAMP:20260424T055036
CREATED:20240401T223044Z
LAST-MODIFIED:20240401T223044Z
UID:3368-1713085200-1713088800@faithchurchguam.org
SUMMARY:Sunday School All Ages
DESCRIPTION:
URL:https://faithchurchguam.org/event/sunday-school-all-ages-92/
END:VEVENT
BEGIN:VEVENT
DTSTART;TZID=Australia/Melbourne:20240407T100000
DTEND;TZID=Australia/Melbourne:20240407T113000
DTSTAMP:20260424T055036
CREATED:20240401T223548Z
LAST-MODIFIED:20240401T223548Z
UID:3374-1712484000-1712489400@faithchurchguam.org
SUMMARY:Worship Service
DESCRIPTION:
URL:https://faithchurchguam.org/event/worship-service-90/
END:VEVENT
BEGIN:VEVENT
DTSTART;TZID=Australia/Melbourne:20240407T090000
DTEND;TZID=Australia/Melbourne:20240407T100000
DTSTAMP:20260424T055036
CREATED:20240401T223006Z
LAST-MODIFIED:20240401T223006Z
UID:3366-1712480400-1712484000@faithchurchguam.org
SUMMARY:Sunday School All Ages
DESCRIPTION:
URL:https://faithchurchguam.org/event/sunday-school-all-ages-91/
END:VEVENT
BEGIN:VEVENT
DTSTART;TZID=Australia/Melbourne:20240331T100000
DTEND;TZID=Australia/Melbourne:20240331T113000
DTSTAMP:20260424T055036
CREATED:20240225T101028Z
LAST-MODIFIED:20240326T180757Z
UID:3347-1711879200-1711884600@faithchurchguam.org
SUMMARY:Easter Sunday Worship Service
DESCRIPTION:
URL:https://faithchurchguam.org/event/worship-service-89/
END:VEVENT
BEGIN:VEVENT
DTSTART;TZID=Australia/Melbourne:20240331T090000
DTEND;TZID=Australia/Melbourne:20240331T100000
DTSTAMP:20260424T055036
CREATED:20240225T100525Z
LAST-MODIFIED:20240225T100525Z
UID:3337-1711875600-1711879200@faithchurchguam.org
SUMMARY:Sunday School All Ages
DESCRIPTION:
URL:https://faithchurchguam.org/event/sunday-school-all-ages-90/
END:VEVENT
BEGIN:VEVENT
DTSTART;TZID=Australia/Melbourne:20240324T100000
DTEND;TZID=Australia/Melbourne:20240324T113000
DTSTAMP:20260424T055036
CREATED:20240225T100954Z
LAST-MODIFIED:20240225T100954Z
UID:3345-1711274400-1711279800@faithchurchguam.org
SUMMARY:Worship Service
DESCRIPTION:
URL:https://faithchurchguam.org/event/worship-service-88/
END:VEVENT
BEGIN:VEVENT
DTSTART;TZID=Australia/Melbourne:20240324T090000
DTEND;TZID=Australia/Melbourne:20240324T100000
DTSTAMP:20260424T055036
CREATED:20240225T100430Z
LAST-MODIFIED:20240225T100430Z
UID:3335-1711270800-1711274400@faithchurchguam.org
SUMMARY:Sunday School All Ages
DESCRIPTION:
URL:https://faithchurchguam.org/event/sunday-school-all-ages-89/
END:VEVENT
BEGIN:VEVENT
DTSTART;TZID=Australia/Melbourne:20240317T100000
DTEND;TZID=Australia/Melbourne:20240317T113000
DTSTAMP:20260424T055036
CREATED:20240225T100909Z
LAST-MODIFIED:20240225T100909Z
UID:3343-1710669600-1710675000@faithchurchguam.org
SUMMARY:Worship Service
DESCRIPTION:
URL:https://faithchurchguam.org/event/worship-service-87/
END:VEVENT
BEGIN:VEVENT
DTSTART;TZID=Australia/Melbourne:20240317T090000
DTEND;TZID=Australia/Melbourne:20240317T100000
DTSTAMP:20260424T055036
CREATED:20240225T100105Z
LAST-MODIFIED:20240225T100105Z
UID:3333-1710666000-1710669600@faithchurchguam.org
SUMMARY:Sunday School All Ages
DESCRIPTION:
URL:https://faithchurchguam.org/event/sunday-school-all-ages-88/
END:VEVENT
BEGIN:VEVENT
DTSTART;TZID=Australia/Melbourne:20240310T100000
DTEND;TZID=Australia/Melbourne:20240310T113000
DTSTAMP:20260424T055036
CREATED:20240225T100832Z
LAST-MODIFIED:20240225T100832Z
UID:3341-1710064800-1710070200@faithchurchguam.org
SUMMARY:Worship Service
DESCRIPTION:
URL:https://faithchurchguam.org/event/worship-service-86/
END:VEVENT
BEGIN:VEVENT
DTSTART;TZID=Australia/Melbourne:20240310T090000
DTEND;TZID=Australia/Melbourne:20240310T100000
DTSTAMP:20260424T055036
CREATED:20240225T100025Z
LAST-MODIFIED:20240225T100025Z
UID:3331-1710061200-1710064800@faithchurchguam.org
SUMMARY:Sunday School All Ages
DESCRIPTION:
URL:https://faithchurchguam.org/event/sunday-school-all-ages-87/
END:VEVENT
END:VCALENDAR